BEGIN:VCALENDAR
VERSION:2.0
PRODID:-//Doctors Network for Charity and Welfare - ECPv6.11.2.1//NONSGML v1.0//EN
CALSCALE:GREGORIAN
METHOD:PUBLISH
X-ORIGINAL-URL:https://dowels.lk
X-WR-CALDESC:Events for Doctors Network for Charity and Welfare
REFRESH-INTERVAL;VALUE=DURATION:PT1H
X-Robots-Tag:noindex
X-PUBLISHED-TTL:PT1H
BEGIN:VTIMEZONE
TZID:UTC
BEGIN:STANDARD
TZOFFSETFROM:+0000
TZOFFSETTO:+0000
TZNAME:UTC
DTSTART:20230101T000000
END:STANDARD
END:VTIMEZONE
BEGIN:VEVENT
DTSTART;TZID=UTC:20230614T143000
DTEND;TZID=UTC:20230614T143000
DTSTAMP:20260424T002552
CREATED:20230614T175012Z
LAST-MODIFIED:20250503T054737Z
UID:1730-1686753000-1686753000@dowels.lk
SUMMARY:DOWELS Poson Bathi Gee
DESCRIPTION:Dowels 11th ANNUAL GENERAL MEETING
URL:https://dowels.lk/event/dowels-poson-bathi-gee/
LOCATION:Sirimavo Bandaranaike Hospital
CATEGORIES:Dowels Events
ATTACH;FMTTYPE=image/jpeg:https://dowels.lk/wp-content/uploads/2025/05/poson_2022.jpeg
END:VEVENT
END:VCALENDAR