BEGIN:VCALENDAR
VERSION:2.0
PRODID:-//Doctors Network for Charity and Welfare - ECPv6.11.2.1//NONSGML v1.0//EN
CALSCALE:GREGORIAN
METHOD:PUBLISH
X-WR-CALNAME:Doctors Network for Charity and Welfare
X-ORIGINAL-URL:https://dowels.lk
X-WR-CALDESC:Events for Doctors Network for Charity and Welfare
REFRESH-INTERVAL;VALUE=DURATION:PT1H
X-Robots-Tag:noindex
X-PUBLISHED-TTL:PT1H
BEGIN:VTIMEZONE
TZID:UTC
BEGIN:STANDARD
TZOFFSETFROM:+0000
TZOFFSETTO:+0000
TZNAME:UTC
DTSTART:20230101T000000
END:STANDARD
END:VTIMEZONE
BEGIN:VEVENT
DTSTART;TZID=UTC:20230724T083000
DTEND;TZID=UTC:20230724T163000
DTSTAMP:20260423T225447
CREATED:20230724T174459Z
LAST-MODIFIED:20250503T061913Z
UID:1725-1690187400-1690216200@dowels.lk
SUMMARY:DOWELS Toastmasters Club
DESCRIPTION:Dowels 11th ANNUAL GENERAL MEETING
URL:https://dowels.lk/event/dowells-toastmasters-club/
CATEGORIES:Dowels Events
ATTACH;FMTTYPE=image/jpeg:https://dowels.lk/wp-content/uploads/2025/05/tostmaster.jpg
END:VEVENT
END:VCALENDAR