BEGIN:VCALENDAR
VERSION:2.0
PRODID:-//Doctors Network for Charity and Welfare - ECPv6.11.2.1//NONSGML v1.0//EN
CALSCALE:GREGORIAN
METHOD:PUBLISH
X-WR-CALNAME:Doctors Network for Charity and Welfare
X-ORIGINAL-URL:https://dowels.lk
X-WR-CALDESC:Events for Doctors Network for Charity and Welfare
REFRESH-INTERVAL;VALUE=DURATION:PT1H
X-Robots-Tag:noindex
X-PUBLISHED-TTL:PT1H
BEGIN:VTIMEZONE
TZID:UTC
BEGIN:STANDARD
TZOFFSETFROM:+0000
TZOFFSETTO:+0000
TZNAME:UTC
DTSTART:20180101T000000
END:STANDARD
END:VTIMEZONE
BEGIN:VEVENT
DTSTART;TZID=UTC:20230724T083000
DTEND;TZID=UTC:20230724T163000
DTSTAMP:20260422T214938
CREATED:20230724T174459Z
LAST-MODIFIED:20250503T061913Z
UID:1725-1690187400-1690216200@dowels.lk
SUMMARY:DOWELS Toastmasters Club
DESCRIPTION:Dowels 11th ANNUAL GENERAL MEETING
URL:https://dowels.lk/event/dowells-toastmasters-club/
CATEGORIES:Dowels Events
ATTACH;FMTTYPE=image/jpeg:https://dowels.lk/wp-content/uploads/2025/05/tostmaster.jpg
END:VEVENT
BEGIN:VEVENT
DTSTART;TZID=UTC:20230614T143000
DTEND;TZID=UTC:20230614T143000
DTSTAMP:20260422T214938
CREATED:20230614T175012Z
LAST-MODIFIED:20250503T054737Z
UID:1730-1686753000-1686753000@dowels.lk
SUMMARY:DOWELS Poson Bathi Gee
DESCRIPTION:Dowels 11th ANNUAL GENERAL MEETING
URL:https://dowels.lk/event/dowels-poson-bathi-gee/
LOCATION:Sirimavo Bandaranaike Hospital
CATEGORIES:Dowels Events
ATTACH;FMTTYPE=image/jpeg:https://dowels.lk/wp-content/uploads/2025/05/poson_2022.jpeg
END:VEVENT
BEGIN:VEVENT
DTSTART;TZID=UTC:20221209T080000
DTEND;TZID=UTC:20221209T170000
DTSTAMP:20260422T214938
CREATED:20180218T090032Z
LAST-MODIFIED:20250503T054606Z
UID:515-1670572800-1670605200@dowels.lk
SUMMARY:Lecture - WHO WILL WATCH THE WATCHMEN
DESCRIPTION:Dowels 11th ANNUAL GENERAL MEETING
URL:https://dowels.lk/event/lecture-who-will-watch-the-watchmen/
LOCATION:New York\, 8 King Street\, NY\, 101\, United States
CATEGORIES:Dowels Events
ATTACH;FMTTYPE=image/jpeg:https://dowels.lk/wp-content/uploads/2021/03/event-5.jpg
ORGANIZER;CN="Gary Jones":MAILTO:halpes@example.com
END:VEVENT
BEGIN:VEVENT
DTSTART;TZID=UTC:20221209T000000
DTEND;TZID=UTC:20221209T000000
DTSTAMP:20260422T214938
CREATED:20180506T090015Z
LAST-MODIFIED:20250503T054314Z
UID:440-1670544000-1670544000@dowels.lk
SUMMARY:Vehicle Maintenance tips by Mr. Lal Alawaththa
DESCRIPTION:Dowels 11th ANNUAL GENERAL MEETING
URL:https://dowels.lk/event/vehicle-maintenance-tips-by-mr-lal-alawaththa/
LOCATION:New York\, 8 King Street\, NY\, 101\, United States
CATEGORIES:Dowels Events
ATTACH;FMTTYPE=image/jpeg:https://dowels.lk/wp-content/uploads/2021/03/event-4.jpg
ORGANIZER;CN="Gary Jones":MAILTO:halpes@example.com
END:VEVENT
BEGIN:VEVENT
DTSTART;TZID=UTC:20180610T183000
DTEND;TZID=UTC:20180610T220000
DTSTAMP:20260422T214938
CREATED:20180610T033125Z
LAST-MODIFIED:20250503T054254Z
UID:518-1528655400-1528668000@dowels.lk
SUMMARY:DOWELS Musical Show
DESCRIPTION:Dowels 11th ANNUAL GENERAL MEETING
URL:https://dowels.lk/event/dowels-musical-show/
LOCATION:Polgolla
CATEGORIES:Dowels Events
ATTACH;FMTTYPE=image/jpeg:https://dowels.lk/wp-content/uploads/2021/03/Gee-Mal-Yaya.jpg
END:VEVENT
BEGIN:VEVENT
DTSTART;TZID=UTC:20180308T090000
DTEND;TZID=UTC:20180309T120000
DTSTAMP:20260422T214938
CREATED:20180309T090014Z
LAST-MODIFIED:20250503T061726Z
UID:446-1520499600-1520596800@dowels.lk
SUMMARY:A practical day with ORCHIDS
DESCRIPTION:Dowels 11th ANNUAL GENERAL MEETING
URL:https://dowels.lk/event/a-practical-day-with-orchids/
LOCATION:Peradeniya\, Royal Botanical Gardens\, Peradeniya
CATEGORIES:Dowels Events
ATTACH;FMTTYPE=image/jpeg:https://dowels.lk/wp-content/uploads/2018/03/1Orchid-workshop.jpg
END:VEVENT
BEGIN:VEVENT
DTSTART;TZID=UTC:20180222T070000
DTEND;TZID=UTC:20180222T213000
DTSTAMP:20260422T214938
CREATED:20180222T190001Z
LAST-MODIFIED:20250503T064805Z
UID:448-1519282800-1519335000@dowels.lk
SUMMARY:Reading the World  Cinema
DESCRIPTION:Dowels 11th ANNUAL GENERAL MEETING
URL:https://dowels.lk/event/reading-the-world-cinema/
CATEGORIES:Dowels Events
ATTACH;FMTTYPE=image/jpeg:https://dowels.lk/wp-content/uploads/2025/05/Sithuwili-Sandewa.jpg
END:VEVENT
BEGIN:VEVENT
DTSTART;TZID=UTC:20180204T090000
DTEND;TZID=UTC:20180204T170000
DTSTAMP:20260422T214938
CREATED:20180204T090029Z
LAST-MODIFIED:20250503T062812Z
UID:1717-1517734800-1517763600@dowels.lk
SUMMARY:3rd Annual Health Check up
DESCRIPTION:Dowels 11th ANNUAL GENERAL MEETING
URL:https://dowels.lk/event/3rd-annual-health-check-up/
LOCATION:KCC kandy\, KCC kandy
CATEGORIES:Dowels Events
ATTACH;FMTTYPE=image/jpeg:https://dowels.lk/wp-content/uploads/2025/05/health-checkup-2018-scaled.jpg
ORGANIZER;CN="Gary Jones":MAILTO:halpes@example.com
END:VEVENT
BEGIN:VEVENT
DTSTART;TZID=UTC:20180204T090000
DTEND;TZID=UTC:20180204T160000
DTSTAMP:20260422T214938
CREATED:20230204T164217Z
LAST-MODIFIED:20250503T063914Z
UID:1720-1517734800-1517760000@dowels.lk
SUMMARY:DOWELS Annual Health Checkup
DESCRIPTION:Dowels 11th ANNUAL GENERAL MEETING
URL:https://dowels.lk/event/dowels-annual-health-checkup-2023/
LOCATION:KCC 5th Floor\, Central Province\, Sri Lanka
CATEGORIES:Dowels Events
ATTACH;FMTTYPE=image/jpeg:https://dowels.lk/wp-content/uploads/2025/05/dahc_01.jpg
END:VEVENT
BEGIN:VEVENT
DTSTART;VALUE=DATE:20180131
DTEND;VALUE=DATE:20180201
DTSTAMP:20260422T214938
CREATED:20180131T064736Z
LAST-MODIFIED:20250503T064139Z
UID:1747-1517356800-1517443199@dowels.lk
SUMMARY:DOWELS Hanthana Hike
DESCRIPTION:Dowels 11th ANNUAL GENERAL MEETING
URL:https://dowels.lk/event/dowels-hanthana-hike/
LOCATION:Hanthana
CATEGORIES:Dowels Events
ATTACH;FMTTYPE=image/jpeg:https://dowels.lk/wp-content/uploads/2018/01/hanthana_mountain.jpg
END:VEVENT
END:VCALENDAR