BEGIN:VCALENDAR
VERSION:2.0
PRODID:-//Doctors Network for Charity and Welfare - ECPv6.11.2.1//NONSGML v1.0//EN
CALSCALE:GREGORIAN
METHOD:PUBLISH
X-ORIGINAL-URL:https://dowels.lk
X-WR-CALDESC:Events for Doctors Network for Charity and Welfare
REFRESH-INTERVAL;VALUE=DURATION:PT1H
X-Robots-Tag:noindex
X-PUBLISHED-TTL:PT1H
BEGIN:VTIMEZONE
TZID:UTC
BEGIN:STANDARD
TZOFFSETFROM:+0000
TZOFFSETTO:+0000
TZNAME:UTC
DTSTART:20250101T000000
END:STANDARD
END:VTIMEZONE
BEGIN:VEVENT
DTSTART;TZID=UTC:20250727T190000
DTEND;TZID=UTC:20250727T233000
DTSTAMP:20260422T224810
CREATED:20250721T003700Z
LAST-MODIFIED:20250721T004158Z
UID:2257-1753642800-1753659000@dowels.lk
SUMMARY:Dowels Members Forum 2025
DESCRIPTION:Dowels 11th ANNUAL GENERAL MEETING
URL:https://dowels.lk/event/dowels-members-forum-2025/
CATEGORIES:Dowels Events
ATTACH;FMTTYPE=image/jpeg:https://dowels.lk/wp-content/uploads/2025/07/Events.jpg
END:VEVENT
BEGIN:VEVENT
DTSTART;TZID=UTC:20260204T193000
DTEND;TZID=UTC:20260204T193000
DTSTAMP:20260422T224810
CREATED:20260202T152149Z
LAST-MODIFIED:20260202T152738Z
UID:2274-1770233400-1770233400@dowels.lk
SUMMARY:ANNUAL FAMILY HEALTH CHECK-UP-2026
DESCRIPTION:Dowels 11th ANNUAL GENERAL MEETING
URL:https://dowels.lk/event/annual-family-health-check-up-2026/
CATEGORIES:Dowels Events
ATTACH;FMTTYPE=image/jpeg:https://dowels.lk/wp-content/uploads/2026/02/WhatsApp-Image-2026-01-31-at-11.02.55-AM.jpeg
END:VEVENT
BEGIN:VEVENT
DTSTART;TZID=UTC:20260405T143000
DTEND;TZID=UTC:20260405T213000
DTSTAMP:20260422T224810
CREATED:20260409T104607Z
LAST-MODIFIED:20260409T104607Z
UID:2384-1775399400-1775424600@dowels.lk
SUMMARY:Avurudu Festival - 2026
DESCRIPTION:Dowels 11th ANNUAL GENERAL MEETING
URL:https://dowels.lk/event/avurudu-festival-2026/
LOCATION:Kalanikethanaya Pallekele
CATEGORIES:Dowels Events
ATTACH;FMTTYPE=image/jpeg:https://dowels.lk/wp-content/uploads/2026/04/Avurudu.jpeg
END:VEVENT
BEGIN:VEVENT
DTSTART;TZID=UTC:20260425T190000
DTEND;TZID=UTC:20260425T213000
DTSTAMP:20260422T224810
CREATED:20260417T084023Z
LAST-MODIFIED:20260419T135827Z
UID:2398-1777143600-1777152600@dowels.lk
SUMMARY:11th Annual General Meeting
DESCRIPTION:Dowels 11th ANNUAL GENERAL MEETING
URL:https://dowels.lk/event/11th-annual-general-meeting/
LOCATION:PMCK Auditorium\,NH Kandy
CATEGORIES:Dowels Events
ATTACH;FMTTYPE=image/jpeg:https://dowels.lk/wp-content/uploads/2026/04/AGM-NEW.jpeg
END:VEVENT
END:VCALENDAR